Workbook

Sheet ВЕРЕСЕНЬ
D1: Додаток 1 до рішення Київської міської ради від 18 грудня 2025 року №313/10780 (в редакції рішення Київської міської ради від________________ №______________ )
A2: Доходи бюджету міста Києва на 2026 рік
B3: 2600000000
B4: (код бюджету) | F4: грн
A5: Код | B5: Найменування згідно з класифікацією доходів бюджету | C5: Всього | D5: Загальний фонд | E5: Спеціальний фонд
E6: Всього | F6: в т.ч. бюджет розвитку | G6: ЗФ | H6: СФ
A7: 10000000 | B7: Податкові надходження | C7: =C8+C11+C16+C21+C36 -> 103715973100 | D7: =D8+D11+D16+D21+D36 -> 103582089100 | E7: =E8+E11+E16+E21+E36 -> 133884000 | F7: =F8+F11+F16+F21 -> 0 | G7: =D7-[1]рішення!D7 -> 3698647700 | H7: =D7-'[1]рішення (книга)'!D7 -> 8836997700
A8: 11000000 | B8: Податки на доходи, податки на прибуток, податки на збільшення ринкової вартості | C8: =C9+C10 -> 67856040700 | D8: =D9+D10 -> 67856040700 | E8: =E9+E10 -> 0 | F8: =F9+F10 -> 0 | G8: =D8-[1]рішення!D8 -> 3889747700 | H8: =D8-'[1]рішення (книга)'!D8 -> 5889747700
A9: 11010000 | B9: Податок та збір на доходи фізичних осіб | C9: =D9+E9 -> 51869430900 | D9: =51869430900 -> 51869430900 | G9: =D9-[1]рішення!D9 -> 0 | H9: =D9-'[1]рішення (книга)'!D9 -> 0
A10: 11020000 | B10: Податок на прибуток підприємств | C10: =D10+E10 -> 15986609800 | D10: =10096862100+2000000000+3889747700 -> 15986609800 | G10: =D10-[1]рішення!D10 -> 3889747700 | H10: =D10-'[1]рішення (книга)'!D10 -> 5889747700
A11: 13000000 | B11: Рентна плата та плата за використання інших природних ресурсів | C11: =C12+C13+C15+C14 -> 68784000 | D11: =D12+D13+D15+D14 -> 68784000 | E11: =E12+E13+E15 -> 0 | F11: =F12+F13+F15 -> 0 | G11: =D11-[1]рішення!D11 -> 0 | H11: =D11-'[1]рішення (книга)'!D11 -> 0
A12: 13020000 | B12: Рентна плата за спеціальне використання води | C12: =D12+E12 -> 50250000 | D12: 50250000 | G12: =D12-[1]рішення!D12 -> 0 | H12: =D12-'[1]рішення (книга)'!D12 -> 0
A13: 13030000 | B13: Рентна плата за користування надрами загальнодержавного значення | C13: =D13+E13 -> 7010000 | D13: 7010000 | G13: =D13-[1]рішення!D13 -> 0 | H13: =D13-'[1]рішення (книга)'!D13 -> 0
A14: 13040000 | B14: Рентна плата за користування надрами місцевого значення | C14: =D14+E14 -> 10760000 | D14: 10760000 | G14: =D14-[1]рішення!D14 -> 0 | H14: =D14-'[1]рішення (книга)'!D14 -> 0
A15: 13070000 | B15: Плата за використання інших природних ресурсів | C15: =D15+E15 -> 764000 | D15: 764000 | G15: =D15-[1]рішення!D15 -> 0 | H15: =D15-'[1]рішення (книга)'!D15 -> 0
A16: 14000000 | B16: Внутрішні податки на товари та послуги | C16: =D16 -> 6428544100 | D16: =D20+D18+D17+D19 -> 6428544100 | E16: =E20 -> 0 | F16: =F20 -> 0 | G16: =D16-[1]рішення!D16 -> 0 | H16: =D16-'[1]рішення (книга)'!D16 -> 0
A17: 14021900 | B17: Акцизний податок з вироблених в Україні підакцизних товарів (пальне) | C17: =D17 -> 206637500 | D17: 206637500 | G17: =D17-[1]рішення!D17 -> 0 | H17: =D17-'[1]рішення (книга)'!D17 -> 0
A18: 14031900 | B18: Акцизний податок з ввезених на митну територію України підакцизних товарів (пальне) | C18: =D18 -> 1867200000 | D18: 1867200000 | G18: =D18-[1]рішення!D18 -> 0 | H18: =D18-'[1]рішення (книга)'!D18 -> 0
A19: 14040100 | B19: Акцизний податок з реалізації виробниками та/або імпортерами, у тому числі в роздрібній торгівлі тютюнових виробів, тютюну та промислових замінників тютюну, рідин, що використовуються в електронних сигаретах, що оподатковується згідно з підпунктом 213.1.14 пункту 213.1 статті 213 Податкового кодексу України | C19: =D19 -> 2355239400 | D19: 2355239400 | G19: =D19-[1]рішення!D19 -> 0 | H19: =D19-'[1]рішення (книга)'!D19 -> 0
A20: 14040200 | B20: Акцизний податок з реалізації суб'єктами господарювання роздрібної торгівлі підакцизних товарів (крім тих, що оподатковуються згідно з підпунктом 213.1.14 пункту 213.1 статті 213 Податкового кодексу України) | C20: =D20+E20 -> 1999467200 | D20: 1999467200 | G20: =D20-[1]рішення!D20 -> 0 | H20: =D20-'[1]рішення (книга)'!D20 -> 0
A21: 18000000 | B21: Місцеві податки | C21: =D21 -> 29228720300 | D21: =D22+D33+D34+D35 -> 29228720300 | E21: =E22+E27+E28+E29+E30+E31+E32+E33+E34+E35 -> 0 | F21: =F22+F27+F28+F29+F30+F31+F32+F33+F34+F35 -> 0 | G21: =D21-[1]рішення!D21 -> -191100000 | H21: =D21-'[1]рішення (книга)'!D21 -> 2947250000
A22: 18010000 | B22: Податок на майно | C22: =D22 -> 12385520300 | D22: =D23+D24+D25+D26+D27+D28+D29+D30+D31+D32 -> 12385520300 | E22: =E27+E28+E29+E30+E31+E32 -> 0 | F22: =F27+F28+F29+F30+F31+F32 -> 0 | G22: =D22-[1]рішення!D22 -> -191100000 | H22: =D22-'[1]рішення (книга)'!D22 -> 2947250000
A23: 18010100 | B23: Податок на нерухоме майно, відмінне від земельної ділянки, сплачений юридичними особами, які є власниками об`єктів житлової нерухомості | C23: =D23 -> 135000000 | D23: 135000000 | G23: =D23-[1]рішення!D23 -> 0 | H23: =D23-'[1]рішення (книга)'!D23 -> 0
A24: 18010200 | B24: Податок на нерухоме майно, відмінне від земельної ділянки, сплачений фізичними особами, які є власниками об`єктів житлової нерухомості | C24: =D24 -> 610000000 | D24: =510000000+100000000 -> 610000000 | G24: =D24-[1]рішення!D24 -> 100000000 | H24: =D24-'[1]рішення (книга)'!D24 -> 100000000
A25: 18010300 | B25: Податок на нерухоме майно, відмінне від земельної ділянки, сплачений фізичними особами, які є власниками об`єктів нежитлової нерухомості | C25: =D25 -> 280000000 | D25: 280000000 | G25: =D25-[1]рішення!D25 -> 0 | H25: =D25-'[1]рішення (книга)'!D25 -> 0
A26: 18010400 | B26: Податок на нерухоме майно, відмінне від земельної ділянки, сплачений юридичними особами, які є власниками об`єктів нежитлової нерухомості | C26: =D26 -> 1530646400 | D26: =1630646400-100000000 -> 1530646400 | G26: =D26-[1]рішення!D26 -> -100000000 | H26: =D26-'[1]рішення (книга)'!D26 -> -100000000
A27: 18010500 | B27: Земельний податок з юридичних осіб | C27: =D27 -> 1989963400 | D27: 1989963400 | G27: =D27-[1]рішення!D27 -> 0 | H27: =D27-'[1]рішення (книга)'!D27 -> 0
A28: 18010600 | B28: Орендна плата з юридичних осіб | C28: =D28 -> 7681866600 | D28: =4734616600+(3988350000-650000000-200000000)-191100000 -> 7681866600 | G28: =D28-[1]рішення!D28 -> -191100000 | H28: =D28-'[1]рішення (книга)'!D28 -> 2947250000
A29: 18010700 | B29: Земельний податок з фізичних осіб | C29: =D29 -> 39510000 | D29: 39510000 | G29: =D29-[1]рішення!D29 -> 0 | H29: =D29-'[1]рішення (книга)'!D29 -> 0
A30: 18010900 | B30: Орендна плата з фізичних осіб | C30: =D30 -> 48433900 | D30: 48433900 | G30: =D30-[1]рішення!D30 -> 0 | H30: =D30-'[1]рішення (книга)'!D30 -> 0
A31: 18011000 | B31: Транспортний податок з фізичних осіб | C31: =D31 -> 39000000 | D31: 39000000 | G31: =D31-[1]рішення!D31 -> 0 | H31: =D31-'[1]рішення (книга)'!D31 -> 0
A32: 18011100 | B32: Транспортний податок з юридичних осіб | C32: =D32 -> 31100000 | D32: 31100000 | G32: =D32-[1]рішення!D32 -> 0 | H32: =D32-'[1]рішення (книга)'!D32 -> 0
A33: 18020000 | B33: Збір за місця для паркування транспортних засобів | C33: =D33+E33 -> 0 | G33: =D33-[1]рішення!D33 -> 0 | H33: =D33-'[1]рішення (книга)'!D33 -> 0
A34: 18030000 | B34: Туристичний збір | C34: =D34+E34 -> 68200000 | D34: 68200000 | G34: =D34-[1]рішення!D34 -> 0 | H34: =D34-'[1]рішення (книга)'!D34 -> 0
A35: 18050000 | B35: Єдиний податок | C35: =D35+E35 -> 16775000000 | D35: 16775000000 | G35: =D35-[1]рішення!D35 -> 0 | H35: =D35-'[1]рішення (книга)'!D35 -> 0
A36: 19000000 | B36: Інші податки та збори | C36: =C37 -> 133884000 | D36: =D37 -> 0 | E36: =E37 -> 133884000 | F36: =F37 -> 0 | G36: =D36-[1]рішення!D36 -> 0 | H36: =D36-'[1]рішення (книга)'!D36 -> 0
A37: 19010000 | B37: Екологічний податок | C37: =D37+E37 -> 133884000 | E37: 133884000 | G37: =D37-[1]рішення!D37 -> 0 | H37: =D37-'[1]рішення (книга)'!D37 -> 0
A38: 20000000 | B38: Неподаткові надходження | C38: =C39+C49+C56+C61+C47 -> 4041128300 | D38: =D39+D49+D56 -> 1109989900 | E38: =E39+E49+E56+E61+E47 -> 2931138400 | F38: =F39+F49+F56+F61 -> 100000000 | G38: =D38-[1]рішення!D38 -> 191100000 | H38: =D38-'[1]рішення (книга)'!D38 -> 191100000
A39: 21000000 | B39: Доходи від власності та підприємницької діяльності | C39: =+C40+C41+C42 -> 238100000 | D39: =+D42+D40 -> 238100000 | E39: =+E41+E42+E44+E45 -> 0 | F39: =+F41+F42+F44+F45 -> 0 | G39: =D39-[1]рішення!D39 -> 16100000 | H39: =D39-'[1]рішення (книга)'!D39 -> 16100000
A40: 21010300 | B40: Частина чистого прибутку (доходу) комунальних унітарних підприємств та їх об'єднань, що вилучається до відповідного місцевого бюджету | C40: =D40 -> 18000000 | D40: =20000000-2000000 -> 18000000 | G40: =D40-[1]рішення!D40 -> -2000000 | H40: =D40-'[1]рішення (книга)'!D40 -> -2000000
...
